BEGIN:VCALENDAR
VERSION:2.0
PRODID:-//PatiOh! La Laboral Gijón - ECPv6.14.1//NONSGML v1.0//EN
CALSCALE:GREGORIAN
METHOD:PUBLISH
X-ORIGINAL-URL:https://laboralgijon.com
X-WR-CALDESC:Eventos para PatiOh! La Laboral Gijón
REFRESH-INTERVAL;VALUE=DURATION:PT1H
X-Robots-Tag:noindex
X-PUBLISHED-TTL:PT1H
BEGIN:VTIMEZONE
TZID:Europe/Madrid
BEGIN:DAYLIGHT
TZOFFSETFROM:+0100
TZOFFSETTO:+0200
TZNAME:CEST
DTSTART:20260329T010000
END:DAYLIGHT
BEGIN:STANDARD
TZOFFSETFROM:+0200
TZOFFSETTO:+0100
TZNAME:CET
DTSTART:20261025T010000
END:STANDARD
END:VTIMEZONE
BEGIN:VEVENT
DTSTART;TZID=Europe/Madrid:20260222T133000
DTEND;TZID=Europe/Madrid:20260222T153000
DTSTAMP:20260420T131543
CREATED:20260122T114600Z
LAST-MODIFIED:20260122T114600Z
UID:9012-1771767000-1771774200@laboralgijon.com
SUMMARY:Body & Soul\, directo en Patioh! Sesion Vermuteoh! en La universidad laboral de Gijón\, Domingo 22 de febrero
DESCRIPTION:Body & Soul \nGrupo que ya repite con nosotros\, asegura una sesion Vermut de baile y entretenimiento con su toque Soul en directo\, el ambiente ideal para pasar tu mañana del Domingo 22 de Febrero en Patioh» Universidad Laboral de Gijón
URL:https://laboralgijon.com/evento/body-soul-directo-en-patioh-sesion-vermuteoh-en-la-universidad-laboral-de-gijon-domingo-22-de-febrero/
LOCATION:PatiOh! La Laboral Gijón\, Jose Luis Alvarez Margaride\, 7 (Patio Dórico de Laboral Ciudad de la Cultura)\, Gijón\, Asturias\, 33203\, España
CATEGORIES:Conciertos,TardeOh!,VermuteOh!
ATTACH;FMTTYPE=image/png:https://laboralgijon.com/wp-content/uploads/2026/01/VERMUT-22-FEBRERO.png
END:VEVENT
END:VCALENDAR