BEGIN:VCALENDAR
VERSION:2.0
PRODID:-//PatiOh! La Laboral Gijón - ECPv6.14.1//NONSGML v1.0//EN
CALSCALE:GREGORIAN
METHOD:PUBLISH
X-ORIGINAL-URL:https://laboralgijon.com
X-WR-CALDESC:Eventos para PatiOh! La Laboral Gijón
REFRESH-INTERVAL;VALUE=DURATION:PT1H
X-Robots-Tag:noindex
X-PUBLISHED-TTL:PT1H
BEGIN:VTIMEZONE
TZID:Europe/Madrid
BEGIN:DAYLIGHT
TZOFFSETFROM:+0100
TZOFFSETTO:+0200
TZNAME:CEST
DTSTART:20260329T010000
END:DAYLIGHT
BEGIN:STANDARD
TZOFFSETFROM:+0200
TZOFFSETTO:+0100
TZNAME:CET
DTSTART:20261025T010000
END:STANDARD
END:VTIMEZONE
BEGIN:VEVENT
DTSTART;TZID=Europe/Madrid:20260111T123000
DTEND;TZID=Europe/Madrid:20260111T153000
DTSTAMP:20260420T143534
CREATED:20260102T115006Z
LAST-MODIFIED:20260102T115034Z
UID:8987-1768134600-1768145400@laboralgijon.com
SUMMARY:VERMUTEOH · DOMINGO 11 DE ENERO MIXTURA TRÍO Y FIRMA DE LIBRO CON FERNANDO VIÑUELA Y RAMÓN DE CANGAS\, UNIVERSIDAD LABORAL DE GIJÓN
DESCRIPTION:VERMUTEOH · DOMINGO 11 DE ENEROEl Patioh se llena de sabor\, música y buenas historias. \n✨ Firma de libro · 12:30 h“Recetas para conquistar corazones”✍️ Fernando Viñuela & Ramón de CangasUn encuentro cercano para charlar\, firmar ejemplares y dejarse inspirar. \nVermut con música en directoMixtura Trío poniendo ritmo al mediodía\, el acompañamiento perfecto para el vermut\, la comida y la buena compañía. \nUn plan redondo para disfrutar el domingo como se merece: cultura\, gastronomía y música en un mismo espacio. \n#Vermuteoh #DomingoEnElPatioh #FirmaDeLibros #RecetasParaConquistarCorazones #FernandoViñuela #RamónDeCangas #MixturaTrío #VermutConMúsica #PlanDeDomingo #Patioh
URL:https://laboralgijon.com/evento/vermuteoh-%c2%b7-domingo-11-de-enero-mixtura-trio-y-firma-de-libro-con-fernando-vinuela-y-ramon-de-cangas-universidad-laboral-de-gijon/
LOCATION:PatiOh! La Laboral Gijón\, Jose Luis Alvarez Margaride\, 7 (Patio Dórico de Laboral Ciudad de la Cultura)\, Gijón\, Asturias\, 33203\, España
CATEGORIES:Conciertos,TardeOh!,VermuteOh!
ATTACH;FMTTYPE=image/png:https://laboralgijon.com/wp-content/uploads/2026/01/vermuetoh-11-de-enero.png
END:VEVENT
END:VCALENDAR