BEGIN:VCALENDAR
VERSION:2.0
PRODID:-//PatiOh! La Laboral Gijón - ECPv6.14.1//NONSGML v1.0//EN
CALSCALE:GREGORIAN
METHOD:PUBLISH
X-ORIGINAL-URL:https://laboralgijon.com
X-WR-CALDESC:Eventos para PatiOh! La Laboral Gijón
REFRESH-INTERVAL;VALUE=DURATION:PT1H
X-Robots-Tag:noindex
X-PUBLISHED-TTL:PT1H
BEGIN:VTIMEZONE
TZID:Europe/Madrid
BEGIN:DAYLIGHT
TZOFFSETFROM:+0100
TZOFFSETTO:+0200
TZNAME:CEST
DTSTART:20250330T010000
END:DAYLIGHT
BEGIN:STANDARD
TZOFFSETFROM:+0200
TZOFFSETTO:+0100
TZNAME:CET
DTSTART:20251026T010000
END:STANDARD
END:VTIMEZONE
BEGIN:VEVENT
DTSTART;TZID=Europe/Madrid:20251226T110000
DTEND;TZID=Europe/Madrid:20251228T190000
DTSTAMP:20260422T131942
CREATED:20251009T130236Z
LAST-MODIFIED:20251127T115059Z
UID:8698-1766746800-1766948400@laboralgijon.com
SUMMARY:Mercadillo Navideño\, Mago Martín y sus talleres \, Vermuteoh con Zambomba flamenca by Francis Ligero en Patioh! Universidad Laboral de Gijón
DESCRIPTION:  \nCOMPRA DE ENTRADAS EN https://www.enterticket.es/eventos/la-aldea-de-claus-en-patioh-269779 \nViernes 26 de diciembre \nMERCADILLO \n16:30 a 17:30 ANIMACIÓN Trae los regalos de Santa Claus y disfruta de la preparación de las fiestas que siguen. En nada viene el año nuevo y tenemos que preparar muchas cosas… ¿Comeremos uvas o gominolas? Y no dejaremos de bailar y jugar… \n17:30 a 19:00 TALLER DE FAROLILLOS DE INVIERNO\nEn este taller\, los participantes construirán farolillos decorativos empleando papel vegetal\, cartulina y elementos translúcidos que\, al iluminarse con una pequeña vela LED\, generan un efecto cálido y festivo. La actividad fomenta la creatividad y permite a los niños crear un objeto. funcional que podrán utilizar en casa como decoración navideña o como símbolo de luz en la llegada del nuevo año. 30 participantes. 15€ niño y acompañante\, taller + picnic (gominolas\, bollería \, zumo ó batido) obligatorio el acompañamiento en menores de 6 años \nANIMACIÓN 19:00 -19:30 \nSábado 27 de diciembre: \nMERCADILLO \nANIMACIÓN 16:30 a 17:00 En nada viene el año nuevo y tenemos que preparar muchas cosas… ¿Comeremos uvas o gominolas? Y no dejaremos de bailar y jugar… \nTALLER DE FAROLILLOS DE INVIERNO 17:30 a 19:00\nEn este taller\, los participantes construirán farolillos decorativos empleando papel vegetal\, cartulina y elementos translúcidos que\, al iluminarse con una pequeña vela LED\, generan un efecto cálido y festivo. La actividad fomenta la creatividad y permite a los niños crear un objeto. funcional que podrán utilizar en casa como decoración navideña o como símbolo de luz en la llegada del nuevo año. 30 participantes. 15€ niño y acompañante\, taller + picnic (gominolas\, bollería \, zumo ó batido) obligatorio el acompañamiento en menores de 6 años \nANIMACIÓN 19:00 -19:30 Celebramos el final del día con juegos y bailes antes de volver a casa. \nDomingo 28 de diciembre \nMERCADILLO \n11:00 a 11:30 ANIMACIÓN Hoy la aldea Celebra el día de los inocentes con bromas\, bailes\, juegos y monigotes. \n11:30 A 12:40 TALLER MAGIA con el MAGO MARTÍN. 20 participantes\, 20€ niño y acompañante\, taller + picnic (gominolas\, bollería \, zumo ó batido) obligatorio el acompañamiento en menores de 6 años \n13:00 a 13:55 ESPECTÁCULO MAGIA WANTED del MAGO MARTIN. Doble M se encuentra en búsqueda activa de nuevos Magos y Magas. Llega a nuestras vidas para mostrarnos cómo todos y cada uno de nosotros albergamos verdadera MAGIA en nuestro interior. Un show repleto de MAGIA y HUMOR en el que Doble M conseguirá que los efectos mágicos sean realizados también por el público. Activo\, dinámico\, participativo y adaptado para el disfrute de toda la familia. Prepárense para vivir una experiencia mágica que hará reír tanto a grandes como a pequeños. \n14:00 a 15:30 SESION VERMUT\,con Francis Ligero\, zambomba flamenca  en nuestro VERMUTEOH! \n16:30 ANIMACIÓN día de los inocentes bailes\, monigotes y juegos \n17:00 A 18:10 TALLER MAGIA con el MAGO MARTÍN. 20 participantes 20€ niño y acompañante\, taller + picnic (gominolas\, bollería \, zumo ó batido) obligatorio el acompañamiento en menores de 6 años \n18:10 a 19:00 ANIMACIÓN Final día de los inocentes bailes y juegos.
URL:https://laboralgijon.com/evento/mercadillo-navideno-mago-martin-y-sus-talleres-vermuteoh-con-villancicos-by-francis-ligero-en-patioh-universidad-laboral-de-gijon/
LOCATION:PatiOh! La Laboral Gijón\, Jose Luis Alvarez Margaride\, 7 (Patio Dórico de Laboral Ciudad de la Cultura)\, Gijón\, Asturias\, 33203\, España
CATEGORIES:Conciertos,Espectáculos,Navidad,TardeOh!,VermuteOh!
ATTACH;FMTTYPE=image/png:https://laboralgijon.com/wp-content/uploads/2025/10/ALDE-DE-CLAUS-PUBLI-2025-26-27-y-28-post.png
ORGANIZER;CN="PatiOh!":MAILTO:info@laboralgijon.com
END:VEVENT
END:VCALENDAR