BEGIN:VCALENDAR
VERSION:2.0
PRODID:-//PatiOh! La Laboral Gijón - ECPv6.14.1//NONSGML v1.0//EN
CALSCALE:GREGORIAN
METHOD:PUBLISH
X-ORIGINAL-URL:https://laboralgijon.com
X-WR-CALDESC:Eventos para PatiOh! La Laboral Gijón
REFRESH-INTERVAL;VALUE=DURATION:PT1H
X-Robots-Tag:noindex
X-PUBLISHED-TTL:PT1H
BEGIN:VTIMEZONE
TZID:Europe/Madrid
BEGIN:DAYLIGHT
TZOFFSETFROM:+0100
TZOFFSETTO:+0200
TZNAME:CEST
DTSTART:20260329T010000
END:DAYLIGHT
BEGIN:STANDARD
TZOFFSETFROM:+0200
TZOFFSETTO:+0100
TZNAME:CET
DTSTART:20261025T010000
END:STANDARD
END:VTIMEZONE
BEGIN:VEVENT
DTSTART;TZID=Europe/Madrid:20260308T133000
DTEND;TZID=Europe/Madrid:20260308T153000
DTSTAMP:20260420T104315
CREATED:20260227T142548Z
LAST-MODIFIED:20260227T142548Z
UID:9084-1772976600-1772983800@laboralgijon.com
SUMMARY:Francis Ligero\, música en directo\, Patioh! de la Universidad Laboral de Gijón\, Vermuteoh! Domingo 8 de Marzo
DESCRIPTION:Francis Ligero nos visita con su guitarra para darnos otra sesión en directo de la mejor música flamenca y sevillana con mucho duende y baile \nSesion de Vermut 13:30 a 15:30\, al aire libre con música en directo\, tres barras en terraza abiertas\, especialidad en Vermuts\, y restaurante con cocinca initerrumpida en horario 13:00 a 22:00
URL:https://laboralgijon.com/evento/francis-ligero-musica-en-directo-patioh-de-la-universidad-laboral-de-gijon-vermuteoh-domingo-8-de-marzo/
LOCATION:PatiOh! La Laboral Gijón\, Jose Luis Alvarez Margaride\, 7 (Patio Dórico de Laboral Ciudad de la Cultura)\, Gijón\, Asturias\, 33203\, España
CATEGORIES:Conciertos,TardeOh!,VermuteOh!
ATTACH;FMTTYPE=image/png:https://laboralgijon.com/wp-content/uploads/2026/02/ChatGPT-Image-27-feb-2026-15_15_35.png
END:VEVENT
BEGIN:VEVENT
DTSTART;TZID=Europe/Madrid:20260322T133000
DTEND;TZID=Europe/Madrid:20260322T153000
DTSTAMP:20260420T104315
CREATED:20260227T145133Z
LAST-MODIFIED:20260227T145225Z
UID:9092-1774186200-1774193400@laboralgijon.com
SUMMARY:Grupo D-Rumba y Gran Paellada en Directo\, Patioh Universidad Laboral de Gijón\, Domingo 22 de Marzo
DESCRIPTION:Vuelve Grupo D-rumba con su mejores versiones de la música española con su toque gitano particular en directo! \nAdemás si el tiempo acompaña\, disfrutaremos de una Gran paellada cocinada en directo para disfrute de nuestros clientes que tengan más hambre y quieran comer una ración mientras disfrutan del Vermut!\, con dos variedades para que todo el mundo se sienta complacido! \nPróximo Domingo 22 de Marzo!
URL:https://laboralgijon.com/evento/grupo-d-rumba-y-gran-paellada-en-directo-patioh-universidad-laboral-de-gijon-domingo-22-de-marzo/
LOCATION:PatiOh! La Laboral Gijón\, Jose Luis Alvarez Margaride\, 7 (Patio Dórico de Laboral Ciudad de la Cultura)\, Gijón\, Asturias\, 33203\, España
CATEGORIES:Conciertos,TardeOh!,VermuteOh!
ATTACH;FMTTYPE=image/png:https://laboralgijon.com/wp-content/uploads/2026/02/ChatGPT-Image-27-feb-2026-15_42_57.png
END:VEVENT
END:VCALENDAR